BEGIN:VCALENDAR
VERSION:2.0
PRODID:-//South Carolina State Assembly - ECPv6.15.20//NONSGML v1.0//EN
CALSCALE:GREGORIAN
METHOD:PUBLISH
X-ORIGINAL-URL:https://southcarolinaassembly.net
X-WR-CALDESC:Events for South Carolina State Assembly
REFRESH-INTERVAL;VALUE=DURATION:PT1H
X-Robots-Tag:noindex
X-PUBLISHED-TTL:PT1H
BEGIN:VTIMEZONE
TZID:America/New_York
BEGIN:DAYLIGHT
TZOFFSETFROM:-0500
TZOFFSETTO:-0400
TZNAME:EDT
DTSTART:20240310T070000
END:DAYLIGHT
BEGIN:STANDARD
TZOFFSETFROM:-0400
TZOFFSETTO:-0500
TZNAME:EST
DTSTART:20241103T060000
END:STANDARD
BEGIN:DAYLIGHT
TZOFFSETFROM:-0500
TZOFFSETTO:-0400
TZNAME:EDT
DTSTART:20250309T070000
END:DAYLIGHT
BEGIN:STANDARD
TZOFFSETFROM:-0400
TZOFFSETTO:-0500
TZNAME:EST
DTSTART:20251102T060000
END:STANDARD
BEGIN:DAYLIGHT
TZOFFSETFROM:-0500
TZOFFSETTO:-0400
TZNAME:EDT
DTSTART:20260308T070000
END:DAYLIGHT
BEGIN:STANDARD
TZOFFSETFROM:-0400
TZOFFSETTO:-0500
TZNAME:EST
DTSTART:20261101T060000
END:STANDARD
END:VTIMEZONE
BEGIN:VEVENT
DTSTART;TZID=America/New_York:20251104T200000
DTEND;TZID=America/New_York:20251104T213000
DTSTAMP:20260423T132850
CREATED:20251104T151654Z
LAST-MODIFIED:20251104T152814Z
UID:866-1762286400-1762291800@southcarolinaassembly.net
SUMMARY:Public General Assembly Meeting Nov. 4
DESCRIPTION:Microsoft Teams Need help?\nJoin the meeting now\nMeeting ID: 222 804 605 785 0\nPasscode: pM7aM6vV
URL:https://southcarolinaassembly.net/event/general-assembly-meeting/
LOCATION:SC Events
ORGANIZER;CN="John Russell":MAILTO:john.russell@southcarolinaassembly.net
END:VEVENT
END:VCALENDAR